

BEGIN:VCALENDAR
VERSION:2.0
PRODID:-//Sociedad Española del Dolor - ECPv6.15.11//NONSGML v1.0//EN
CALSCALE:GREGORIAN
METHOD:PUBLISH
X-ORIGINAL-URL:https://www.sedolor.es
X-WR-CALDESC:Eventos para Sociedad Española del Dolor
REFRESH-INTERVAL;VALUE=DURATION:PT1H
X-Robots-Tag:noindex
X-PUBLISHED-TTL:PT1H
BEGIN:VTIMEZONE
TZID:Europe/Madrid
BEGIN:DAYLIGHT
TZOFFSETFROM:+0100
TZOFFSETTO:+0200
TZNAME:CEST
DTSTART:20190331T010000
END:DAYLIGHT
BEGIN:STANDARD
TZOFFSETFROM:+0200
TZOFFSETTO:+0100
TZNAME:CET
DTSTART:20191027T010000
END:STANDARD
BEGIN:DAYLIGHT
TZOFFSETFROM:+0100
TZOFFSETTO:+0200
TZNAME:CEST
DTSTART:20200329T010000
END:DAYLIGHT
BEGIN:STANDARD
TZOFFSETFROM:+0200
TZOFFSETTO:+0100
TZNAME:CET
DTSTART:20201025T010000
END:STANDARD
BEGIN:DAYLIGHT
TZOFFSETFROM:+0100
TZOFFSETTO:+0200
TZNAME:CEST
DTSTART:20210328T010000
END:DAYLIGHT
BEGIN:STANDARD
TZOFFSETFROM:+0200
TZOFFSETTO:+0100
TZNAME:CET
DTSTART:20211031T010000
END:STANDARD
END:VTIMEZONE
BEGIN:VEVENT
DTSTART;TZID=Europe/Madrid:20201006T190000
DTEND;TZID=Europe/Madrid:20201006T203000
DTSTAMP:20260426T004233
CREATED:20201005T103825Z
LAST-MODIFIED:20201005T103903Z
UID:4048-1602010800-1602016200@www.sedolor.es
SUMMARY:2ª sesión: Webinar Actualización en artrosis y Unidades de Dolor
DESCRIPTION:Inscríbase aquí\nSi ya está inscrito\, sígalo desde este enlace\nDescargue el programa aquí:\n\n\n\n    \n        \n            \n            \n                Programa webinar "Artrosis y Unidades de Dolor"\n                 1 archivo(s)  4.53 MB\n            \n            \n                Descargar
URL:https://www.sedolor.es/evento/2a-sesion-webinar-actualizacion-en-artrosis-y-unidades-de-dolor/
CATEGORIES:06 Grupo Dolor Musculoesquelético
ATTACH;FMTTYPE=image/png:https://www.sedolor.es/wp-content/uploads/2020/10/banner-2a-webinar-artrosis.png
END:VEVENT
END:VCALENDAR