

BEGIN:VCALENDAR
VERSION:2.0
PRODID:-//Sociedad Española del Dolor - ECPv6.15.11//NONSGML v1.0//EN
CALSCALE:GREGORIAN
METHOD:PUBLISH
X-WR-CALNAME:Sociedad Española del Dolor
X-ORIGINAL-URL:https://www.sedolor.es
X-WR-CALDESC:Eventos para Sociedad Española del Dolor
REFRESH-INTERVAL;VALUE=DURATION:PT1H
X-Robots-Tag:noindex
X-PUBLISHED-TTL:PT1H
BEGIN:VTIMEZONE
TZID:Europe/Madrid
BEGIN:DAYLIGHT
TZOFFSETFROM:+0100
TZOFFSETTO:+0200
TZNAME:CEST
DTSTART:20240331T010000
END:DAYLIGHT
BEGIN:STANDARD
TZOFFSETFROM:+0200
TZOFFSETTO:+0100
TZNAME:CET
DTSTART:20241027T010000
END:STANDARD
BEGIN:DAYLIGHT
TZOFFSETFROM:+0100
TZOFFSETTO:+0200
TZNAME:CEST
DTSTART:20250330T010000
END:DAYLIGHT
BEGIN:STANDARD
TZOFFSETFROM:+0200
TZOFFSETTO:+0100
TZNAME:CET
DTSTART:20251026T010000
END:STANDARD
BEGIN:DAYLIGHT
TZOFFSETFROM:+0100
TZOFFSETTO:+0200
TZNAME:CEST
DTSTART:20260329T010000
END:DAYLIGHT
BEGIN:STANDARD
TZOFFSETFROM:+0200
TZOFFSETTO:+0100
TZNAME:CET
DTSTART:20261025T010000
END:STANDARD
END:VTIMEZONE
BEGIN:VEVENT
DTSTART;VALUE=DATE:20251108
DTEND;VALUE=DATE:20251109
DTSTAMP:20260422T230651
CREATED:20241219T083549Z
LAST-MODIFIED:20241219T083549Z
UID:8042-1762560000-1762646399@www.sedolor.es
SUMMARY:Jornada Presencial GTSED Medicina Regenerativa
DESCRIPTION:
URL:https://www.sedolor.es/evento/jornada-presencial-gtsed-medicina-regenerativa/
CATEGORIES:18 Grupo de Interés en Medicina Regenerativa y Celular
END:VEVENT
END:VCALENDAR