

BEGIN:VCALENDAR
VERSION:2.0
PRODID:-//Sociedad Española del Dolor - ECPv6.15.11//NONSGML v1.0//EN
CALSCALE:GREGORIAN
METHOD:PUBLISH
X-WR-CALNAME:Sociedad Española del Dolor
X-ORIGINAL-URL:https://www.sedolor.es
X-WR-CALDESC:Eventos para Sociedad Española del Dolor
REFRESH-INTERVAL;VALUE=DURATION:PT1H
X-Robots-Tag:noindex
X-PUBLISHED-TTL:PT1H
BEGIN:VTIMEZONE
TZID:Europe/Madrid
BEGIN:DAYLIGHT
TZOFFSETFROM:+0100
TZOFFSETTO:+0200
TZNAME:CEST
DTSTART:20230326T010000
END:DAYLIGHT
BEGIN:STANDARD
TZOFFSETFROM:+0200
TZOFFSETTO:+0100
TZNAME:CET
DTSTART:20231029T010000
END:STANDARD
BEGIN:DAYLIGHT
TZOFFSETFROM:+0100
TZOFFSETTO:+0200
TZNAME:CEST
DTSTART:20240331T010000
END:DAYLIGHT
BEGIN:STANDARD
TZOFFSETFROM:+0200
TZOFFSETTO:+0100
TZNAME:CET
DTSTART:20241027T010000
END:STANDARD
BEGIN:DAYLIGHT
TZOFFSETFROM:+0100
TZOFFSETTO:+0200
TZNAME:CEST
DTSTART:20250330T010000
END:DAYLIGHT
BEGIN:STANDARD
TZOFFSETFROM:+0200
TZOFFSETTO:+0100
TZNAME:CET
DTSTART:20251026T010000
END:STANDARD
END:VTIMEZONE
BEGIN:VEVENT
DTSTART;VALUE=DATE:20240118
DTEND;VALUE=DATE:20240120
DTSTAMP:20260425T045954
CREATED:20231116T101550Z
LAST-MODIFIED:20231218T190842Z
UID:7352-1705536000-1705708799@www.sedolor.es
SUMMARY:ECODOLOR - SED 2024
DESCRIPTION:ECODOLOR – SED 2024\n13ª edición\nTÉCNICAS INVASIVAS EN DOLOR CRÓNICO: PUNCIÓN GUIADA POR ULTRASONIDOS Y FLUOROSCOPIA SOBRE EL RAQUIS EN EL CADÁVER \n“ECOGRAFÍA // FLUOROSCOPIA en la COLUMNA VERTEBRAL”\n18 y 19 de enero de 2024\nLa punción ecoguiada ofrece la posibilidad de visualizar en tiempo real la introducción y posterior localización de la aguja en el área anatómica implicada en la génesis del dolor. ECODOLOR junto con el grupo de trabajo de ecografía de la SOCIEDAD ESPAÑOLA DE DOLOR ofrece unos conocimientos teórico-prácticos que pueden ayudar al especialista a realizar diferentes técnicas intervencionistas para el tratamiento del dolor a nivel neuroaxial. Nuestro objetivo en la presente edición es la incorporación de la fluoroscopia como medio de control de la punción ecoguiada neuroaxial. Nuestra metodología está compuesta de breves sesiones teóricas seguidas de talleres prácticos de sonoanatomía y punción ecoguiada en preparaciones cadavéricas con control por fluoroscopia. \nPara valorar los conocimientos adquiridos\, los alumnos realizarán una prueba de evaluación de tipo teórico antes y después del curso. \nDirectores del curso: \nDr. Tomás Domingo Rufes. Unidad de Dolor\, Servicio de Anestesiología\, Hospital Universitario de Bellvitge\, Barcelona. \nDr. Alejando Ortega Romero. Unidad de Dolor\, Servicio de Anestesiología\, Hospital de Traumatología y Rehabilitación ASEPEYO\, Coslada\, Madrid. \nDirectores científicos: \nDr. Tomás Domingo Rufes. Unidad de Dolor\, Servicio de Anestesiología\, Hospital Universitario de Bellvitge\, Barcelona. \nDra. Blanca Martínez Serrano. Unidad de Dolor\, Servicio de Anestesiología\, Hospital Universitario La Paz\, Madrid. \nDr. Víctor Mayoral Rojals. Unidad de Dolor\, Servicio de Anestesiología\, Hospital Universitario de Bellvitge\, Barcelona. \nOrganización: \n\nSOCIEDAD ESPAÑOLA DE DOLOR – GTSED ECOGRAFÍA.\nDepartamento de Anatomía\, Facultad de Medicina\, Universidad Autónoma de Madrid. Dr. Francisco Clascá Cabré.\n\nSede del curso:  Sala de Disección de la Facultad de Medicina de la Universidad Autónoma de Madrid. \nMatrícula: Curso limitado a 30 alumnos. \nInscripción:     Socio SED:            1.400\,00€ + IVA \n                        No socio SED:       1.500\,00€ + IVA \nLa inscripción incluye: Asistencia al curso\, comidas de trabajo y diploma/certificado de asistencia acreditado. \nLas inscripciones se realizarán enviando formulario descargable con todos los datos a secretaria@sedolor.es \nSecretaria Técnica e Información: \nSociedad Española de Dolor. \nPaseo de la Castellana 241\, 4º A. 28046 – Madrid (ESPAÑA).\n+34 911 729 144\nsecretaria@sedolor.es \nDescarga el programa\nDescarga el formulario de inscripción
URL:https://www.sedolor.es/evento/ecodolor-sed-2024/
LOCATION:Sala de Disección de la Facultad de Medicina de la Universidad Autónoma de Madrid\, C/ Arturo Duperier\, 4\, Madrid\, 28029\, España
CATEGORIES:21 Grupo Ecografía
ATTACH;FMTTYPE=image/png:https://www.sedolor.es/wp-content/uploads/2023/11/ecodolor2.png
END:VEVENT
END:VCALENDAR