

BEGIN:VCALENDAR
VERSION:2.0
PRODID:-//Sociedad Española del Dolor - ECPv6.15.11//NONSGML v1.0//EN
CALSCALE:GREGORIAN
METHOD:PUBLISH
X-ORIGINAL-URL:https://www.sedolor.es
X-WR-CALDESC:Eventos para Sociedad Española del Dolor
REFRESH-INTERVAL;VALUE=DURATION:PT1H
X-Robots-Tag:noindex
X-PUBLISHED-TTL:PT1H
BEGIN:VTIMEZONE
TZID:Europe/Madrid
BEGIN:DAYLIGHT
TZOFFSETFROM:+0100
TZOFFSETTO:+0200
TZNAME:CEST
DTSTART:20240331T010000
END:DAYLIGHT
BEGIN:STANDARD
TZOFFSETFROM:+0200
TZOFFSETTO:+0100
TZNAME:CET
DTSTART:20241027T010000
END:STANDARD
BEGIN:DAYLIGHT
TZOFFSETFROM:+0100
TZOFFSETTO:+0200
TZNAME:CEST
DTSTART:20250330T010000
END:DAYLIGHT
BEGIN:STANDARD
TZOFFSETFROM:+0200
TZOFFSETTO:+0100
TZNAME:CET
DTSTART:20251026T010000
END:STANDARD
BEGIN:DAYLIGHT
TZOFFSETFROM:+0100
TZOFFSETTO:+0200
TZNAME:CEST
DTSTART:20260329T010000
END:DAYLIGHT
BEGIN:STANDARD
TZOFFSETFROM:+0200
TZOFFSETTO:+0100
TZNAME:CET
DTSTART:20261025T010000
END:STANDARD
END:VTIMEZONE
BEGIN:VEVENT
DTSTART;VALUE=DATE:20250109
DTEND;VALUE=DATE:20250111
DTSTAMP:20260424T123635
CREATED:20241025T121721Z
LAST-MODIFIED:20241118T121535Z
UID:7947-1736380800-1736553599@www.sedolor.es
SUMMARY:ECODOLOR - SED 2025
DESCRIPTION:Las inscripciones se realizarán enviando formulario descargable con todos los datos a secretaria@sedolor.es \nSecretaria Técnica e Información: \nSociedad Española de Dolor. \nPaseo de la Castellana 241\, 4º A. 28046 – Madrid (ESPAÑA).\n+34 911 729 144\nsecretaria@sedolor.es \nDescarga el programa\nDescarga el formulario de inscripción
URL:https://www.sedolor.es/evento/ecodolor-sed-2025/
LOCATION:Sala de Disección de la Facultad de Medicina de la Universidad Autónoma de Madrid\, C/ Arturo Duperier\, 4\, Madrid\, 28029\, España
CATEGORIES:21 Grupo Ecografía
ATTACH;FMTTYPE=image/jpeg:https://www.sedolor.es/wp-content/uploads/2024/10/Banner-web-SED-scaled.jpg
END:VEVENT
END:VCALENDAR