

BEGIN:VCALENDAR
VERSION:2.0
PRODID:-//Sociedad Española del Dolor - ECPv6.15.11//NONSGML v1.0//EN
CALSCALE:GREGORIAN
METHOD:PUBLISH
X-ORIGINAL-URL:https://www.sedolor.es
X-WR-CALDESC:Eventos para Sociedad Española del Dolor
REFRESH-INTERVAL;VALUE=DURATION:PT1H
X-Robots-Tag:noindex
X-PUBLISHED-TTL:PT1H
BEGIN:VTIMEZONE
TZID:Europe/Madrid
BEGIN:DAYLIGHT
TZOFFSETFROM:+0100
TZOFFSETTO:+0200
TZNAME:CEST
DTSTART:20200329T010000
END:DAYLIGHT
BEGIN:STANDARD
TZOFFSETFROM:+0200
TZOFFSETTO:+0100
TZNAME:CET
DTSTART:20201025T010000
END:STANDARD
BEGIN:DAYLIGHT
TZOFFSETFROM:+0100
TZOFFSETTO:+0200
TZNAME:CEST
DTSTART:20210328T010000
END:DAYLIGHT
BEGIN:STANDARD
TZOFFSETFROM:+0200
TZOFFSETTO:+0100
TZNAME:CET
DTSTART:20211031T010000
END:STANDARD
BEGIN:DAYLIGHT
TZOFFSETFROM:+0100
TZOFFSETTO:+0200
TZNAME:CEST
DTSTART:20220327T010000
END:DAYLIGHT
BEGIN:STANDARD
TZOFFSETFROM:+0200
TZOFFSETTO:+0100
TZNAME:CET
DTSTART:20221030T010000
END:STANDARD
END:VTIMEZONE
BEGIN:VEVENT
DTSTART;TZID=Europe/Madrid:20210219T083000
DTEND;TZID=Europe/Madrid:20210219T143000
DTSTAMP:20260426T002357
CREATED:20210121T160524Z
LAST-MODIFIED:20210121T160524Z
UID:4514-1613723400-1613745000@www.sedolor.es
SUMMARY:Jornada de la Sociedad Catalana del Dolor: "Situación actual de los cannabinoides en el tratamiento del dolor"
DESCRIPTION:Programa Jornada Cannabinoides de la Sociedad Catalana del Dolor\n                 1 archivo(s)  129.83 KB\n            \n            \n                Descargar
URL:https://www.sedolor.es/evento/jornada-de-la-sociedad-catalana-del-dolor-situacion-actual-de-los-cannabinoides-en-el-tratamiento-del-dolor/
END:VEVENT
END:VCALENDAR