

BEGIN:VCALENDAR
VERSION:2.0
PRODID:-//Sociedad Española del Dolor - ECPv6.15.11//NONSGML v1.0//EN
CALSCALE:GREGORIAN
METHOD:PUBLISH
X-ORIGINAL-URL:https://www.sedolor.es
X-WR-CALDESC:Eventos para Sociedad Española del Dolor
REFRESH-INTERVAL;VALUE=DURATION:PT1H
X-Robots-Tag:noindex
X-PUBLISHED-TTL:PT1H
BEGIN:VTIMEZONE
TZID:Europe/Madrid
BEGIN:DAYLIGHT
TZOFFSETFROM:+0100
TZOFFSETTO:+0200
TZNAME:CEST
DTSTART:20240331T010000
END:DAYLIGHT
BEGIN:STANDARD
TZOFFSETFROM:+0200
TZOFFSETTO:+0100
TZNAME:CET
DTSTART:20241027T010000
END:STANDARD
BEGIN:DAYLIGHT
TZOFFSETFROM:+0100
TZOFFSETTO:+0200
TZNAME:CEST
DTSTART:20250330T010000
END:DAYLIGHT
BEGIN:STANDARD
TZOFFSETFROM:+0200
TZOFFSETTO:+0100
TZNAME:CET
DTSTART:20251026T010000
END:STANDARD
BEGIN:DAYLIGHT
TZOFFSETFROM:+0100
TZOFFSETTO:+0200
TZNAME:CEST
DTSTART:20260329T010000
END:DAYLIGHT
BEGIN:STANDARD
TZOFFSETFROM:+0200
TZOFFSETTO:+0100
TZNAME:CET
DTSTART:20261025T010000
END:STANDARD
BEGIN:DAYLIGHT
TZOFFSETFROM:+0100
TZOFFSETTO:+0200
TZNAME:CEST
DTSTART:20270328T010000
END:DAYLIGHT
BEGIN:STANDARD
TZOFFSETFROM:+0200
TZOFFSETTO:+0100
TZNAME:CET
DTSTART:20271031T010000
END:STANDARD
END:VTIMEZONE
BEGIN:VEVENT
DTSTART;VALUE=DATE:20250923
DTEND;VALUE=DATE:20260901
DTSTAMP:20260419T191138
CREATED:20251023T141242Z
LAST-MODIFIED:20251023T141242Z
UID:8605-1758585600-1788220799@www.sedolor.es
SUMMARY:Curso Integral de formación avanzada en el manejo del dolor – PIOS (Pain Institute of Spain)
DESCRIPTION:Formato híbrido: teoría online del 23 sept 2025 al 31 agosto 2026 y taller práctico en Facultad de Medicina UCM \ninfo@paininstituteofspain.com
URL:https://www.sedolor.es/evento/curso-integral-de-formacion-avanzada-en-el-manejo-del-dolor-pios-pain-institute-of-spain/
END:VEVENT
BEGIN:VEVENT
DTSTART;TZID=Europe/Madrid:20260304T000000
DTEND;TZID=Europe/Madrid:20261214T000000
DTSTAMP:20260419T191138
CREATED:20260209T194147Z
LAST-MODIFIED:20260218T110658Z
UID:8801-1772582400-1797206400@www.sedolor.es
SUMMARY:Diploma de Especialización en el Tratamiento Farmacológico del Dolor 2026
DESCRIPTION:La Sociedad Española del Dolor (SED) y la Universidad Rey Juan Carlos (URJC)\, con la colaboración de Viatris\, presentan el\n🎓 Diploma de Especialización en el Tratamiento Farmacológico del Dolor 2026 (Título propio de 6 créditos ECTS).\n\nUn programa diseñado para profesionales sanitarios que buscan actualizar\, profundizar y aplicar el manejo farmacológico del dolor en la práctica clínica.\n📅 Duración del curso: del 4 de marzo al 14 de diciembre de 2026 (suspensión en julio y agosto)\n📚 ¿Qué ofrece el diploma?\n\n\nFormación ONLINE con temario actualizado.\n\n\nResolución de casos clínicos reales.\n\n\nEnfoque práctico\, clínico y directamente aplicable.\n\n\nTest final: 14 de diciembre de 2026\n\n\nEste diploma es una oportunidad única para consolidar conocimientos\, mejorar la toma de decisiones terapéuticas y avanzar en tu desarrollo profesional en el ámbito del dolor.\nLas plazas son limitadas y hay 20 becas disponibles (cubren el total de la matrícula).\nActualización: \nDIsponibles 50 plazas en total para este curso.\nEl importe del mismo será de 200€ + IVA.\n👉Periodo de preinscripción del 9 al 17 de febrero de 2026\nEnvía tu solicitud aquí. Tendrás que adjuntar tu Curriculum y un documento de expresión de interés para el proceso de selección.\n¡Da el siguiente paso en tu formación en 2026 y forma parte de este programa de referencia!\n\nInformación: comunicacion@sedolor.es
URL:https://www.sedolor.es/evento/diploma-de-especializacion-en-el-tratamiento-farmacologico-del-dolor-2026/
ORGANIZER;CN="SED":MAILTO:comunicacion@sedolor.es
END:VEVENT
BEGIN:VEVENT
DTSTART;VALUE=DATE:20260731
DTEND;VALUE=DATE:20260801
DTSTAMP:20260419T191138
CREATED:20260414T092830Z
LAST-MODIFIED:20260414T102751Z
UID:8903-1785456000-1785542399@www.sedolor.es
SUMMARY:Tu Dolor Importa 2026 - Concurso "Ideas que alivian"
DESCRIPTION:La Sociedad Española del Dolor (SED) convoca el concurso “Ideas que alivian”\, en el marco del evento #TuDolorImporta\, con el objetivo de reconocer y visibilizar iniciativas desarrolladas por personas físicas\, así como por organizaciones\, agrupaciones y entidades sin ánimo de lucro\, integradas o no por pacientes\, que estén dedicadas a la defensa de los intereses del colectivo y que contribuyan de forma significativa a mejorar la calidad de vida y aportar beneficios tangibles a las personas que viven con dolor crónico y a su entorno. \n\n\n\n    \n        \n            \n            \n                Bases del concurso Ideas que alivian - TuDolorImporta 2026\n                 1 archivo(s)  2.40 MB\n            \n            \n                Descargar\n            \n        \n    \n\n\n\n¡Inscríbete aquí!\n\n\n  \n\n\n\n\n\n\n\n\n\n\n\n\n\n\n\n\nNombre y apellidos *\n\n\n \n¿Eres periodista? Por favor\, indícanos tu medio\n\n\n \nCorreo electrónico *\n\n\n \nAsistirás:\nOnline\n\n \n¿Tienes alguna alergia alimentaria?\n \nSíNo\n \nEn caso positivo\, indícanos cuál para que podamos adaptar el cóctel.\n\n\n \nHe leído y acepto la Política de privacidad de esta web. accediendo así expresamente a que la Sociedad Española del Dolor (SED) pueda tratar la información que envío para gestionar las comunicaciones de sus eventos y actividades para pacientes #Tudolorimporta (CONSENTIMIENTO). Solo utilizaremos los datos que libremente nos dejes para hacerte llegar información de nuestras actividades. (FINALIDAD). Para ello los trasladaremos a MailChimp (nuestra plataforma de gestión y envío de emails. Puedes consultar aquí su política de privacidad). Conservaremos tus datos indefinidamente hasta que tu nos pidas que los borremos o te des de baja del boletín o cierre esta web. (DERECHOS) Puedes ejercer tus derechos de acceso\, rectificación\, limitación o eliminación de tu información escribiendo a comunicacion(arroba)sedolor.com. Puedes darte de baja de los envíos en cualquier momento desde nuestros emails. El RESPONSABLE de la gestión de tus datos es el Administrador de la web de la SED.n para el consentimiento.\n\n \n\n\n \n\n\nBases del concurso «Ideas que alivian» #TuDolorImporta 2026\nSociedad Española del Dolor \nLa Sociedad Española del Dolor (SED) convoca el concurso «Ideas que alivian»\, en el marco del evento #TuDolorImporta\, con el objetivo de reconocer y visibilizar iniciativas desarrolladas por personas físicas\, así como por organizaciones\, agrupaciones y entidades sin ánimo de lucro\, integradas o no por pacientes\, que estén dedicadas a la defensa de los intereses del colectivo y que contribuyan de forma significativa a mejorar la calidad de vida y aportar beneficios tangibles a las personas que viven con dolor crónico y a su entorno. \n\n\n1. ¿Quién puede participar?\nPodrán presentar su solicitud: \n\nPersonas físicas\, con o sin condición de pacientes\, que impulsen proyectos sin ánimo de lucro orientados a la mejora de la calidad de vida de personas con dolor crónico.\nOrganizaciones\, agrupaciones y entidades sin ánimo de lucro\, estén o no integradas por pacientes\, que tengan entre sus fines la defensa\, apoyo o representación del colectivo afectado por el dolor crónico\, con sede en España\, independientemente de su tamaño o ámbito territorial (local\, provincial\, autonómico o nacional).\n\nTodas las entidades deberán haberse constituido o inscrito antes del 1 de enero de 2026. \n\n\n2. ¿Qué tipo de iniciativas se buscan?\nSe valorarán especialmente iniciativas y proyectos ya en marcha\, que estén generando un impacto positivo y verificable en la vida de personas con dolor crónico\, así como en la de sus familiares y personas cuidadoras. \nLos proyectos podrán desarrollarse en diferentes ámbitos de actuación\, siempre que contribuyan de forma significativa a alguno de los siguientes objetivos: \n\nMejora del bienestar físico\, emocional o social.\nPromoción de la autonomía y la funcionalidad.\nImpulso de la inclusión social y la participación comunitaria.\nDefensa de derechos\, sensibilización o reducción del estigma.\nCualquier otra acción que mejore la calidad de vida del colectivo afectado.\n\nLas candidaturas deberán aportar\, siempre que sea posible\, datos o indicadores concretos de impacto —tales como número de personas beneficiarias\, resultados obtenidos\, grado de satisfacción o sostenibilidad del proyecto— que permitan valorar objetivamente su alcance y eficacia. \n\n\n3. ¿Cómo participar?\nLa participación se realiza en dos fases: \n\nFase 1 — Presentación de candidaturas\nLos candidatos elegibles e interesados deberán rellenar un formulario habilitado en la web de la SED. Cada candidatura deberá describir la iniciativa o proyecto presentado\, su ámbito de actuación\, los objetivos perseguidos y los resultados obtenidos\, incluyendo\, en la medida de lo posible\, indicadores concretos de impacto (número de beneficiarios\, actividades realizadas\, resultados medibles\, etc.). \nEl plazo de admisión de candidaturas se cerrará a las 23:59 horas del 31 de julio de 2026. \n(Enlace al formulario disponible próximamente) \n\n\nFase 2 — Selección de finalistas y vídeo de presentación\nUn jurado designado por la SED\, compuesto por profesionales de la salud y personas expertas con experiencia en dolor crónico\, seleccionará un máximo de seis iniciativas finalistas. \nLos finalistas presentarán su propuesta en un vídeo de un máximo de tres minutos\, que se proyectará durante el evento #TuDolorImporta el próximo 2 de octubre de 2026. Si una candidatura no desea presentar su proyecto o alguno de sus miembros no están presentes el día del evento\, perderá su derecho al premio y la oportunidad pasará al siguiente proyecto clasificado. \nEl jurado elegirá un proyecto ganador de entre los finalistas durante el evento #TuDolorImporta y lo anunciarán en ese mismo evento. \nLas decisiones del jurado serán inapelables. \n\n\n\n4. ¿Cuál es el premio?\nCada proyecto finalista que defienda su proyecto en el evento recibirá un premio de 200 €. El proyecto ganador\, además\, recibirá 800 € adicionales y un «pack de visibilidad» que incluirá acciones de comunicación y difusión a través de la Sociedad Española del Dolor\, Dolor.com y otros canales\, para impulsar el reconocimiento público de la iniciativa\, tales como nota de prensa\, post en redes sociales y publicación en la web. \nEn caso de producirse un empate en la valoración final\, el jurado podrá decidir el reparto del premio entre las candidaturas empatadas o\, en su caso\, declarar el premio desierto si así lo considera oportuno.
URL:https://www.sedolor.es/evento/tu-dolor-importa-2026-concurso-ideas-que-alivian/
END:VEVENT
END:VCALENDAR